BEGIN:VCALENDAR
VERSION:2.0
CALSCALE:GREGORIAN
PRODID:adamgibbons/ics
METHOD:PUBLISH
X-PUBLISHED-TTL:PT1H
BEGIN:VEVENT
UID:13180@balotta.org
SUMMARY:Zona Uni antifascista
DTSTAMP:20260421T030900Z
DTSTART:20260421T110000Z
DTEND:20260421T215000Z
URL:https://balotta.org/event/zona-uni-antifascista
GEO:44.4971;11.3516
LOCATION:Zamboni 38 - 38\, Via Zamboni\, Irnerio\, Santo Stefano\, Bologna\
	, Emilia-Romagna\, 40126\, Italia
STATUS:CONFIRMED
CATEGORIES:antifascismo,banchetti,caccia al tesoro,CUA,djset,documentario,p
	astasciutta antifascista
END:VEVENT
END:VCALENDAR
